BEGIN:VCALENDAR
VERSION:2.0
PRODID:-//The Reading Room - ECPv6.15.17.1//NONSGML v1.0//EN
CALSCALE:GREGORIAN
METHOD:PUBLISH
X-WR-CALNAME:The Reading Room
X-ORIGINAL-URL:https://thereadingroomatl.com
X-WR-CALDESC:Events for The Reading Room
REFRESH-INTERVAL;VALUE=DURATION:PT1H
X-Robots-Tag:noindex
X-PUBLISHED-TTL:PT1H
BEGIN:VTIMEZONE
TZID:UTC
BEGIN:STANDARD
TZOFFSETFROM:+0000
TZOFFSETTO:+0000
TZNAME:UTC
DTSTART:20250101T000000
END:STANDARD
END:VTIMEZONE
BEGIN:VEVENT
DTSTART;TZID=UTC:20260522T190000
DTEND;TZID=UTC:20260522T213000
DTSTAMP:20260420T114819
CREATED:20260419T124425Z
LAST-MODIFIED:20260419T124425Z
UID:941-1779476400-1779485400@thereadingroomatl.com
SUMMARY:Friday Night Live - Jason Montgomery
DESCRIPTION:Jason Montgomery has been a part of Friday Night Live since the beginning. Playing piano with many incredible artists over the last two years. This May\, he’ll be headlining his jazz duo for our Friday Night Live series.
URL:https://thereadingroomatl.com/event/friday-night-live-jason-montgomery-2/
ATTACH;FMTTYPE=image/png:https://thereadingroomatl.com/wp-content/uploads/2026/04/FNL_JasonMontgomery_May22.png
END:VEVENT
END:VCALENDAR