BEGIN:VCALENDAR
VERSION:2.0
PRODID:-//The Reading Room - ECPv6.15.17.1//NONSGML v1.0//EN
CALSCALE:GREGORIAN
METHOD:PUBLISH
X-WR-CALNAME:The Reading Room
X-ORIGINAL-URL:https://thereadingroomatl.com
X-WR-CALDESC:Events for The Reading Room
REFRESH-INTERVAL;VALUE=DURATION:PT1H
X-Robots-Tag:noindex
X-PUBLISHED-TTL:PT1H
BEGIN:VTIMEZONE
TZID:UTC
BEGIN:STANDARD
TZOFFSETFROM:+0000
TZOFFSETTO:+0000
TZNAME:UTC
DTSTART:20240101T000000
END:STANDARD
END:VTIMEZONE
BEGIN:VEVENT
DTSTART;TZID=UTC:20250815T190000
DTEND;TZID=UTC:20250815T220000
DTSTAMP:20260420T061620
CREATED:20250725T183915Z
LAST-MODIFIED:20250725T183915Z
UID:731-1755284400-1755295200@thereadingroomatl.com
SUMMARY:Friday Night Live - James Wilson\, Smooth Sound Collective
DESCRIPTION:Join us in welcoming James Wilson for a smooth night of jazz. He specializes in creating wondrous sounds on his saxophone by playing both original rhythms and his favorite covers. We’re so excited to welcome James to our Friday Night Live series and can’t wait to see you there!
URL:https://thereadingroomatl.com/event/friday-night-live-james-wilson-smooth-sound-collective/
ATTACH;FMTTYPE=image/png:https://thereadingroomatl.com/wp-content/uploads/2025/07/SmoothCollective_August15-1.png
END:VEVENT
END:VCALENDAR